BEGIN:VCALENDAR
VERSION:2.0
PRODID:-//United Hungarian Societies - ECPv6.15.20//NONSGML v1.0//EN
CALSCALE:GREGORIAN
METHOD:PUBLISH
X-WR-CALNAME:United Hungarian Societies
X-ORIGINAL-URL:https://hungariancleveland.org/hu/
X-WR-CALDESC:Események United Hungarian Societies
REFRESH-INTERVAL;VALUE=DURATION:PT1H
X-Robots-Tag:noindex
X-PUBLISHED-TTL:PT1H
BEGIN:VTIMEZONE
TZID:America/New_York
BEGIN:DAYLIGHT
TZOFFSETFROM:-0500
TZOFFSETTO:-0400
TZNAME:EDT
DTSTART:20240310T070000
END:DAYLIGHT
BEGIN:STANDARD
TZOFFSETFROM:-0400
TZOFFSETTO:-0500
TZNAME:EST
DTSTART:20241103T060000
END:STANDARD
BEGIN:DAYLIGHT
TZOFFSETFROM:-0500
TZOFFSETTO:-0400
TZNAME:EDT
DTSTART:20250309T070000
END:DAYLIGHT
BEGIN:STANDARD
TZOFFSETFROM:-0400
TZOFFSETTO:-0500
TZNAME:EST
DTSTART:20251102T060000
END:STANDARD
BEGIN:DAYLIGHT
TZOFFSETFROM:-0500
TZOFFSETTO:-0400
TZNAME:EDT
DTSTART:20260308T070000
END:DAYLIGHT
BEGIN:STANDARD
TZOFFSETFROM:-0400
TZOFFSETTO:-0500
TZNAME:EST
DTSTART:20261101T060000
END:STANDARD
END:VTIMEZONE
BEGIN:VEVENT
DTSTART;VALUE=DATE:20250514
DTEND;VALUE=DATE:20250517
DTSTAMP:20260420T075331
CREATED:20250429T003229Z
LAST-MODIFIED:20250429T003229Z
UID:96880-1747180800-1747439999@hungariancleveland.org
SUMMARY:Consular Days / Konzuli Napok
DESCRIPTION:The Consulate General of Hungary in Chicago & the Consulate General of Hungary in Cleveland will host Consular Days on May 14-16 at The First Hungarian Reformed Church. An appointment is required\, which may be made by contacting consulate.chi@mfa.gov.hu. They will advise on specific documentation required for the appointment. \n\nMagyarország Chicagói Főkonzulátusa 2025. május 14-16 között kihelyezett konzuli napokat tart Ohio államban\, Cleveland városában.\n\n\nHelyszín: First Hungarian Reformed Church\nCím: 14530 Alexander Road\, Walton Hills\, OH 44146\n\n\nAz időpontfoglalás a consulate.chi@mfa.gov.hu email címen lehetséges 2025. április 21-től. Az ügyintézéshez előzetes időpont foglalása kötelező.\n\n 
URL:https://hungariancleveland.org/hu/event/consular-days-konzuli-napok/
LOCATION:First Hungarian Reformed Church\, 14530 Alexander Rd\, Walton Hills\, OH\, 44146\, United States
ATTACH;FMTTYPE=image/jpeg:https://hungariancleveland.org/wp-content/uploads/2025/04/IMG_3529.jpg
END:VEVENT
END:VCALENDAR