BEGIN:VCALENDAR
VERSION:2.0
PRODID:-//United Hungarian Societies - ECPv6.15.20//NONSGML v1.0//EN
CALSCALE:GREGORIAN
METHOD:PUBLISH
X-WR-CALNAME:United Hungarian Societies
X-ORIGINAL-URL:https://hungariancleveland.org
X-WR-CALDESC:Events for United Hungarian Societies
REFRESH-INTERVAL;VALUE=DURATION:PT1H
X-Robots-Tag:noindex
X-PUBLISHED-TTL:PT1H
BEGIN:VTIMEZONE
TZID:America/New_York
BEGIN:DAYLIGHT
TZOFFSETFROM:-0500
TZOFFSETTO:-0400
TZNAME:EDT
DTSTART:20230312T070000
END:DAYLIGHT
BEGIN:STANDARD
TZOFFSETFROM:-0400
TZOFFSETTO:-0500
TZNAME:EST
DTSTART:20231105T060000
END:STANDARD
BEGIN:DAYLIGHT
TZOFFSETFROM:-0500
TZOFFSETTO:-0400
TZNAME:EDT
DTSTART:20240310T070000
END:DAYLIGHT
BEGIN:STANDARD
TZOFFSETFROM:-0400
TZOFFSETTO:-0500
TZNAME:EST
DTSTART:20241103T060000
END:STANDARD
BEGIN:DAYLIGHT
TZOFFSETFROM:-0500
TZOFFSETTO:-0400
TZNAME:EDT
DTSTART:20250309T070000
END:DAYLIGHT
BEGIN:STANDARD
TZOFFSETFROM:-0400
TZOFFSETTO:-0500
TZNAME:EST
DTSTART:20251102T060000
END:STANDARD
END:VTIMEZONE
BEGIN:VEVENT
DTSTART;TZID=America/New_York:20240511T180000
DTEND;TZID=America/New_York:20240511T210000
DTSTAMP:20260425T150359
CREATED:20240507T150751Z
LAST-MODIFIED:20240509T164836Z
UID:95887-1715450400-1715461200@hungariancleveland.org
SUMMARY:Worship Concert with the Singers of Ararat Collective / Koncert az Ararat Worship Collective énekeseivel
DESCRIPTION:Come\, let us worship together with the singers of Ararat Worship Collective (from Budapest) on Saturday\, May 11 at 6 P.M. at Vineyard Church Cleveland. Admission is free and following the concert\, there will be a light reception. Please bring a friend\, or several. For more information\, email petralaszlo@yahoo.com. Facebook event: https://www.facebook.com/share/NAqySvUZ8yMqjE2A/?mibextid=9l3rBW \nDicsőítsük együtt Istent az Ararat Worship Collective énekeseivel május 11-én a Vineyard Gyülekezetben (Vineyard Church Cleveland)\, melynek címe: 6735 York Rd\, Parma Hts.\, OH 44130. A dicsőítő est 6 órakor kezdődik. Az Ararat Worship Collective nevét az özönvíz története ihlette\, amelyben a pusztulást túlélő emberek az Ararát-hegyén feneklettek meg és onnan indították újra az életet. A budapesti együttes célja Jézust újra a középpontba helyezni. A részvétel INGYENES. A koncert után szeretetvendégségre kerül sor. Nézzük meg az ízelítő videót.
URL:https://hungariancleveland.org/event/worship-concert-with-the-singers-of-ararat-collective-koncert-az-ararat-worship-collective-enekeseivel/
LOCATION:Vineyard Cleveland Church\, 6735 York Rd.\, Parma Hts.\, OH\, 44130\, United States
ATTACH;FMTTYPE=image/png:https://hungariancleveland.org/wp-content/uploads/2024/05/Sarga-es-Zold-Eszaki-Feny-Kutatas-Plakat-masolata-2.png
END:VEVENT
END:VCALENDAR