BEGIN:VCALENDAR
VERSION:2.0
PRODID:-//United Hungarian Societies - ECPv6.15.20//NONSGML v1.0//EN
CALSCALE:GREGORIAN
METHOD:PUBLISH
X-WR-CALNAME:United Hungarian Societies
X-ORIGINAL-URL:https://hungariancleveland.org
X-WR-CALDESC:Events for United Hungarian Societies
REFRESH-INTERVAL;VALUE=DURATION:PT1H
X-Robots-Tag:noindex
X-PUBLISHED-TTL:PT1H
BEGIN:VTIMEZONE
TZID:America/New_York
BEGIN:DAYLIGHT
TZOFFSETFROM:-0500
TZOFFSETTO:-0400
TZNAME:EDT
DTSTART:20230312T070000
END:DAYLIGHT
BEGIN:STANDARD
TZOFFSETFROM:-0400
TZOFFSETTO:-0500
TZNAME:EST
DTSTART:20231105T060000
END:STANDARD
BEGIN:DAYLIGHT
TZOFFSETFROM:-0500
TZOFFSETTO:-0400
TZNAME:EDT
DTSTART:20240310T070000
END:DAYLIGHT
BEGIN:STANDARD
TZOFFSETFROM:-0400
TZOFFSETTO:-0500
TZNAME:EST
DTSTART:20241103T060000
END:STANDARD
BEGIN:DAYLIGHT
TZOFFSETFROM:-0500
TZOFFSETTO:-0400
TZNAME:EDT
DTSTART:20250309T070000
END:DAYLIGHT
BEGIN:STANDARD
TZOFFSETFROM:-0400
TZOFFSETTO:-0500
TZNAME:EST
DTSTART:20251102T060000
END:STANDARD
END:VTIMEZONE
BEGIN:VEVENT
DTSTART;TZID=America/New_York:20240526T150000
DTEND;TZID=America/New_York:20240526T163000
DTSTAMP:20260425T094837
CREATED:20240507T145937Z
LAST-MODIFIED:20240509T165532Z
UID:95883-1716735600-1716741000@hungariancleveland.org
SUMMARY:United Hungarian Societies: Memorial Day Celebration / Egyesült Magyar Egyletek: Magyar Hősök Napja\, ünnepi megemlékezés
DESCRIPTION:The United Hungarian Societies of Cleveland cordially invite you to a Memorial Day Commemoration honoring Hungarian veterans on\nSunday\, 26 May 2024 at 3 P.M. at Sunset Memorial Park (Hungarian Memorial) in North Olmsted. Keynote Speaker: Lieutenant Colonel Judit Fejes\, Embassy of Hungary in Washington\, DC: Assistant Defense & Military Attaché.\nA clevelandi Egyesült Magyar Egyletek tisztelettel meghívja önt a Magyar Hősök Napján tartandó ünnepi megemlékezésre és koszorúzásra\, május 26-án du. 3 órától a Sunset Memorial Park magyar emlékművéhez.  A megemlékezésen Fejes Judit alezredes a Magyarország Washingtoni Nagykövetségének véderő és katonai attaséhelyettese mond ünnepi beszédet. Közreműködik az Ohio National Guard is.
URL:https://hungariancleveland.org/event/united-hungarian-societies-memorial-day-celebration-egyesult-magyar-egyletek-magyar-hosok-napja-unnepi-megemlekezes/
LOCATION:Sunset Memorial Park\, 6265 Columbia Rd\, North Olmsted
ATTACH;FMTTYPE=image/jpeg:https://hungariancleveland.org/wp-content/uploads/2024/05/Screenshot-2024-05-09-at-12.54.06 PM.jpeg
END:VEVENT
END:VCALENDAR