BEGIN:VCALENDAR
VERSION:2.0
PRODID:-//United Hungarian Societies - ECPv6.15.20//NONSGML v1.0//EN
CALSCALE:GREGORIAN
METHOD:PUBLISH
X-WR-CALNAME:United Hungarian Societies
X-ORIGINAL-URL:https://hungariancleveland.org
X-WR-CALDESC:Events for United Hungarian Societies
REFRESH-INTERVAL;VALUE=DURATION:PT1H
X-Robots-Tag:noindex
X-PUBLISHED-TTL:PT1H
BEGIN:VTIMEZONE
TZID:America/New_York
BEGIN:DAYLIGHT
TZOFFSETFROM:-0500
TZOFFSETTO:-0400
TZNAME:EDT
DTSTART:20230312T070000
END:DAYLIGHT
BEGIN:STANDARD
TZOFFSETFROM:-0400
TZOFFSETTO:-0500
TZNAME:EST
DTSTART:20231105T060000
END:STANDARD
BEGIN:DAYLIGHT
TZOFFSETFROM:-0500
TZOFFSETTO:-0400
TZNAME:EDT
DTSTART:20240310T070000
END:DAYLIGHT
BEGIN:STANDARD
TZOFFSETFROM:-0400
TZOFFSETTO:-0500
TZNAME:EST
DTSTART:20241103T060000
END:STANDARD
BEGIN:DAYLIGHT
TZOFFSETFROM:-0500
TZOFFSETTO:-0400
TZNAME:EDT
DTSTART:20250309T070000
END:DAYLIGHT
BEGIN:STANDARD
TZOFFSETFROM:-0400
TZOFFSETTO:-0500
TZNAME:EST
DTSTART:20251102T060000
END:STANDARD
END:VTIMEZONE
BEGIN:VEVENT
DTSTART;TZID=America/New_York:20240817T100000
DTEND;TZID=America/New_York:20240817T150000
DTSTAMP:20260420T154319
CREATED:20240730T123723Z
LAST-MODIFIED:20240730T123746Z
UID:96147-1723888800-1723906800@hungariancleveland.org
SUMMARY:Stuffed Cabbage and Sausage for Take-Out (Hiram) / Töltöttkáposzta és Kolbász árusītás elvitelre (Hiram)
DESCRIPTION:A Hirami Magyar Klub augusztus 17-én friss kolbászt és töltött káposztát készít elvitelre. Rendeléseiket megtehetik augusztus 9-ig Beverly-nél a 216-475-2920 számon vagy Lindánál a 440-248-4530 telefonszámon. A rendeléseket felvehetik augusztus 17-én de. 10 és du. 3 óra között a Hirami parkban. A rendelésekkel a Hirami Magyar Parkot támogatják.
URL:https://hungariancleveland.org/event/stuffed-cabbage-and-sausage-for-take-out-hiram-toltottkaposzta-es-kolbasz-arusitas-elvitelre-hiram/
LOCATION:Hungarian Cultural Center Of Northeastern Ohio\, 12027 Abbott Road\, Hiram\, OH 44234
ATTACH;FMTTYPE=image/png:https://hungariancleveland.org/wp-content/uploads/2024/07/image.png
END:VEVENT
END:VCALENDAR