BEGIN:VCALENDAR
VERSION:2.0
PRODID:-//United Hungarian Societies - ECPv6.15.20//NONSGML v1.0//EN
CALSCALE:GREGORIAN
METHOD:PUBLISH
X-WR-CALNAME:United Hungarian Societies
X-ORIGINAL-URL:https://hungariancleveland.org
X-WR-CALDESC:Events for United Hungarian Societies
REFRESH-INTERVAL;VALUE=DURATION:PT1H
X-Robots-Tag:noindex
X-PUBLISHED-TTL:PT1H
BEGIN:VTIMEZONE
TZID:America/New_York
BEGIN:DAYLIGHT
TZOFFSETFROM:-0500
TZOFFSETTO:-0400
TZNAME:EDT
DTSTART:20230312T070000
END:DAYLIGHT
BEGIN:STANDARD
TZOFFSETFROM:-0400
TZOFFSETTO:-0500
TZNAME:EST
DTSTART:20231105T060000
END:STANDARD
BEGIN:DAYLIGHT
TZOFFSETFROM:-0500
TZOFFSETTO:-0400
TZNAME:EDT
DTSTART:20240310T070000
END:DAYLIGHT
BEGIN:STANDARD
TZOFFSETFROM:-0400
TZOFFSETTO:-0500
TZNAME:EST
DTSTART:20241103T060000
END:STANDARD
BEGIN:DAYLIGHT
TZOFFSETFROM:-0500
TZOFFSETTO:-0400
TZNAME:EDT
DTSTART:20250309T070000
END:DAYLIGHT
BEGIN:STANDARD
TZOFFSETFROM:-0400
TZOFFSETTO:-0500
TZNAME:EST
DTSTART:20251102T060000
END:STANDARD
END:VTIMEZONE
BEGIN:VEVENT
DTSTART;TZID=America/New_York:20240519T123000
DTEND;TZID=America/New_York:20240519T143000
DTSTAMP:20260425T113737
CREATED:20240507T144451Z
LAST-MODIFIED:20240509T165252Z
UID:95879-1716121800-1716129000@hungariancleveland.org
SUMMARY:Chicken Paprikash Benefit Lunch at St. Emeric Church / Jótékony Célú Csirkepaprikás Ebéd a Szent Imre Templomban
DESCRIPTION:You are cordially invited to join us for a Chicken Paprikash Charity Benefit Lunch on Sunday\, May 15 at 12:30\, sponsored by St. Emeric Parish. The menu will be: Hungarian style fresh green pea soup\, chicken paprikash with traditional dumplings\, Hungarian style cucumber salad\, homemade pastry\, coffee. Refreshing drinks available for purchase.Reservations must be made by May 15\, by calling one of the following ladies:  Maria Meszaros at 440-331-0391 or  Marika Zsula at 216-676-5863. Cost is $25  for adults\,  $12 for students\, and under age 7 is free. The lunch may also be ordered in advance for take-out. \nA Szent Imre Templom egyházközség hagyományos jótékony célú csirkepaprikás ebédet rendez május 19-én\, vasárnap 12:30-tól. A menü: Tavaszi zsenge zöldborsóleves\, paprikás csirke és nokedli friss uborka salátával. Deszertként házi sütemény és kávé. Kérjük jelentkezzenek részvételi szándékukkal május 15-ig az alábbi asszonyok egyikénél: Mészáros Máriánál a 440-331-0391 számon vagy Zsula Marikánál a 216-676-5863-as számon. Hazavitelre is lerendelni.
URL:https://hungariancleveland.org/event/chicken-paprikash-benefit-lunch-at-st-emeric-church-jotekony-celu-csirkepaprikas-ebed-a-szent-imre-templomban/
LOCATION:Saint Emeric Church Cleveland\, Ohio\, 1860 W 22nd St\, Cleveland\, OH\, 44113\, US
ATTACH;FMTTYPE=image/jpeg:https://hungariancleveland.org/wp-content/uploads/2024/05/IMG_4749-1.jpg
END:VEVENT
END:VCALENDAR